BEGIN:VCALENDAR
VERSION:2.0
PRODID:-//Erskine College - ECPv6.15.20//NONSGML v1.0//EN
CALSCALE:GREGORIAN
METHOD:PUBLISH
X-WR-CALNAME:Erskine College
X-ORIGINAL-URL:https://www.erskine.edu
X-WR-CALDESC:Events for Erskine College
REFRESH-INTERVAL;VALUE=DURATION:PT1H
X-Robots-Tag:noindex
X-PUBLISHED-TTL:PT1H
BEGIN:VTIMEZONE
TZID:America/New_York
BEGIN:DAYLIGHT
TZOFFSETFROM:-0500
TZOFFSETTO:-0400
TZNAME:EDT
DTSTART:20220313T070000
END:DAYLIGHT
BEGIN:STANDARD
TZOFFSETFROM:-0400
TZOFFSETTO:-0500
TZNAME:EST
DTSTART:20221106T060000
END:STANDARD
BEGIN:DAYLIGHT
TZOFFSETFROM:-0500
TZOFFSETTO:-0400
TZNAME:EDT
DTSTART:20230312T070000
END:DAYLIGHT
BEGIN:STANDARD
TZOFFSETFROM:-0400
TZOFFSETTO:-0500
TZNAME:EST
DTSTART:20231105T060000
END:STANDARD
BEGIN:DAYLIGHT
TZOFFSETFROM:-0500
TZOFFSETTO:-0400
TZNAME:EDT
DTSTART:20240310T070000
END:DAYLIGHT
BEGIN:STANDARD
TZOFFSETFROM:-0400
TZOFFSETTO:-0500
TZNAME:EST
DTSTART:20241103T060000
END:STANDARD
END:VTIMEZONE
BEGIN:VEVENT
DTSTART;TZID=America/New_York:20230325T130000
DTEND;TZID=America/New_York:20230325T170000
DTSTAMP:20260420T220530
CREATED:20230316T204212Z
LAST-MODIFIED:20230322T175927Z
UID:10000004-1679749200-1679763600@www.erskine.edu
SUMMARY:Lessons of Legends: a journey of faith\, hope\, and love from Narnia to Middle-earth
DESCRIPTION:A multimedia exhibit in collaboration with the English Department highlighting the masterpieces of J.R.R. Tolkien and C.S. Lewis.
URL:https://www.erskine.edu/event/lessons-of-legends/
LOCATION:Bowie Arts Center\, 2 Bonner Street\, Due West\, SC\, 29639\, United States
CATEGORIES:Alumni,Arts,Community
ATTACH;FMTTYPE=image/png:https://www.erskine.edu/wp-content/uploads/2023/03/Untitled-design-26.png
END:VEVENT
END:VCALENDAR