BEGIN:VCALENDAR
VERSION:2.0
PRODID:-//Erskine College - ECPv6.15.20//NONSGML v1.0//EN
CALSCALE:GREGORIAN
METHOD:PUBLISH
X-ORIGINAL-URL:https://www.erskine.edu
X-WR-CALDESC:Events for Erskine College
REFRESH-INTERVAL;VALUE=DURATION:PT1H
X-Robots-Tag:noindex
X-PUBLISHED-TTL:PT1H
BEGIN:VTIMEZONE
TZID:America/New_York
BEGIN:DAYLIGHT
TZOFFSETFROM:-0500
TZOFFSETTO:-0400
TZNAME:EDT
DTSTART:20220313T070000
END:DAYLIGHT
BEGIN:STANDARD
TZOFFSETFROM:-0400
TZOFFSETTO:-0500
TZNAME:EST
DTSTART:20221106T060000
END:STANDARD
BEGIN:DAYLIGHT
TZOFFSETFROM:-0500
TZOFFSETTO:-0400
TZNAME:EDT
DTSTART:20230312T070000
END:DAYLIGHT
BEGIN:STANDARD
TZOFFSETFROM:-0400
TZOFFSETTO:-0500
TZNAME:EST
DTSTART:20231105T060000
END:STANDARD
BEGIN:DAYLIGHT
TZOFFSETFROM:-0500
TZOFFSETTO:-0400
TZNAME:EDT
DTSTART:20240310T070000
END:DAYLIGHT
BEGIN:STANDARD
TZOFFSETFROM:-0400
TZOFFSETTO:-0500
TZNAME:EST
DTSTART:20241103T060000
END:STANDARD
END:VTIMEZONE
BEGIN:VEVENT
DTSTART;VALUE=DATE:20230901
DTEND;VALUE=DATE:20230902
DTSTAMP:20260420T184917
CREATED:20230316T180824Z
LAST-MODIFIED:20231117T162249Z
UID:10000127-1693526400-1693612799@www.erskine.edu
SUMMARY:Erskine athletics schedule available
DESCRIPTION:Stay up to date on all the Erskine College Flying Fleet Athletic events by visiting the Composite Schedule at www.erskinesports.com!
URL:https://www.erskine.edu/event/erskine-athletics-schedule-available/2023-09-01/
CATEGORIES:Athletics
ATTACH;FMTTYPE=image/jpeg:https://www.erskine.edu/wp-content/uploads/2023/03/erskine-sports.jpg
END:VEVENT
BEGIN:VEVENT
DTSTART;TZID=America/New_York:20230902T170000
DTEND;TZID=America/New_York:20230902T190000
DTSTAMP:20260420T184917
CREATED:20230821T210730Z
LAST-MODIFIED:20230823T203409Z
UID:10000141-1693674000-1693681200@www.erskine.edu
SUMMARY:Columbia-Area Alumni Tailgate with Fleet Football
DESCRIPTION:Join the Midlands chapter of the Erskine Alumni Association for a Flying Fleet TAILGATE as Erskine Football takes on Allen University.\nFood and refreshments will be provided by the Alumni Association. Staff from Erskine will be on hand to greet you. As a bonus\, grab some free Erskine swag and register for an Erskine gift basket valued at $300.\nPLEASE NOTE: You can register for this event by visiting this link. \nOnce registered for the tailgate\, you will also need to purchase a parking pass (not a ‘tailgate pass’) and admission to the game – link here. Allen University’s Athletic Department does NOT accept cash at the gate\, so please be sure to purchase your tickets and parking pass in advance using this link. \nDetails\nWhen: Saturday\, September 2nd\nTime: between 5:00 and 7:00 pm\, game begins at 7:00 pm\nWhere: Westwood High School Stadium\n180 Turkey Farm Rd.\nBlythewood\, SC 29016 \nFor questions\, please contact Andy Anderson (anderson@erskine.edu)
URL:https://www.erskine.edu/event/columbia-area-alumni-tailgate-with-fleet-football/
LOCATION:Westwood High School Stadium\, 180 Turkey Farm Rd.\, Blythewood\, SC\, 29016\, United States
CATEGORIES:Alumni,Football
ATTACH;FMTTYPE=image/jpeg:https://www.erskine.edu/wp-content/uploads/2023/04/i-pHHnC3K-4K-scaled.jpeg
ORGANIZER;CN="Andy Anderson":MAILTO:anderson@erskine.edu
END:VEVENT
BEGIN:VEVENT
DTSTART;TZID=America/New_York:20230923T180000
DTEND;TZID=America/New_York:20230923T200000
DTSTAMP:20260420T184917
CREATED:20230725T153713Z
LAST-MODIFIED:20230728T144343Z
UID:10000115-1695492000-1695499200@www.erskine.edu
SUMMARY:Erskine vs. Newberry: First Responders / Staff & Faculty Appreciation Day
DESCRIPTION:Erskine College and Flying Fleet Football will honor all first responders who protect our freedoms\, our health and our communities. We are grateful for your service every day\, but especially for your tireless service during the global pandemic. Attendees will be recognized in the stands. \nAll first responders are invited to attend the game as guests of Erskine College’s Flying Fleet Football program to be honored for your service to our community\, our nation and our world. You will receive free entry to the game with a valid employment ID or military ID. Parking information can be found at www.erskine.edu/football. \nThe Erskine Football program are thankful for the entire faculty and staff at Erskine College. All are invited as guests for the 2023 home opener and can use their Erskine ID for free parking in the Gray Lot and admissions including spouse and children at the main gate. A parking map of J.W. Babb Stadium can be found at www.erskine.edu/football/football-ticket-policies.
URL:https://www.erskine.edu/event/erskine-vs-newberry-football-2023/
LOCATION:J.W. Babb Stadium\, 1816 Cokesbury Rd\, Greenwood\, SC\, 29649\, United States
CATEGORIES:Alumni,Athletics,Community,Football,Students
ATTACH;FMTTYPE=image/jpeg:https://www.erskine.edu/wp-content/uploads/2023/04/i-pHHnC3K-4K-scaled.jpeg
END:VEVENT
END:VCALENDAR