BEGIN:VCALENDAR
VERSION:2.0
PRODID:-//Erskine College - ECPv6.15.20//NONSGML v1.0//EN
CALSCALE:GREGORIAN
METHOD:PUBLISH
X-WR-CALNAME:Erskine College
X-ORIGINAL-URL:https://www.erskine.edu
X-WR-CALDESC:Events for Erskine College
REFRESH-INTERVAL;VALUE=DURATION:PT1H
X-Robots-Tag:noindex
X-PUBLISHED-TTL:PT1H
BEGIN:VTIMEZONE
TZID:America/New_York
BEGIN:DAYLIGHT
TZOFFSETFROM:-0500
TZOFFSETTO:-0400
TZNAME:EDT
DTSTART:20220313T070000
END:DAYLIGHT
BEGIN:STANDARD
TZOFFSETFROM:-0400
TZOFFSETTO:-0500
TZNAME:EST
DTSTART:20221106T060000
END:STANDARD
BEGIN:DAYLIGHT
TZOFFSETFROM:-0500
TZOFFSETTO:-0400
TZNAME:EDT
DTSTART:20230312T070000
END:DAYLIGHT
BEGIN:STANDARD
TZOFFSETFROM:-0400
TZOFFSETTO:-0500
TZNAME:EST
DTSTART:20231105T060000
END:STANDARD
BEGIN:DAYLIGHT
TZOFFSETFROM:-0500
TZOFFSETTO:-0400
TZNAME:EDT
DTSTART:20240310T070000
END:DAYLIGHT
BEGIN:STANDARD
TZOFFSETFROM:-0400
TZOFFSETTO:-0500
TZNAME:EST
DTSTART:20241103T060000
END:STANDARD
END:VTIMEZONE
BEGIN:VEVENT
DTSTART;VALUE=DATE:20231101
DTEND;VALUE=DATE:20231102
DTSTAMP:20260424T055218
CREATED:20230316T180824Z
LAST-MODIFIED:20231117T162249Z
UID:10000129-1698796800-1698883199@www.erskine.edu
SUMMARY:Erskine athletics schedule available
DESCRIPTION:Stay up to date on all the Erskine College Flying Fleet Athletic events by visiting the Composite Schedule at www.erskinesports.com!
URL:https://www.erskine.edu/event/erskine-athletics-schedule-available/2023-11-01/
CATEGORIES:Athletics
ATTACH;FMTTYPE=image/jpeg:https://www.erskine.edu/wp-content/uploads/2023/03/erskine-sports.jpg
END:VEVENT
BEGIN:VEVENT
DTSTART;TZID=America/New_York:20231104T120000
DTEND;TZID=America/New_York:20231104T190000
DTSTAMP:20260424T055218
CREATED:20231026T174733Z
LAST-MODIFIED:20231026T174733Z
UID:10000192-1699099200-1699124400@www.erskine.edu
SUMMARY:Acrobatics and Tumbling Recruit Visit
DESCRIPTION:[vc_row][vc_column][vc_column_text]Join us on Saturday\, November 4 for a visit with Erskine Acrobatics and Tumbling! The day will consist of a tour with the team\, lunch in the cafeteria\, “meet the team” time\, and practice with the team. Use the link below to sign up. \nFor more information\, contact head coach Carly Egan. Click the button below to sign up![/vc_column_text][/vc_column][/vc_row][vc_row][vc_column]Sign up! [/vc_column][/vc_row]
URL:https://www.erskine.edu/event/acrobatics-and-tumbling-recruit-visit/
CATEGORIES:Admissions,Athletics
ATTACH;FMTTYPE=image/png:https://www.erskine.edu/wp-content/uploads/2023/10/Screen-Shot-2023-10-26-at-1.46.27-PM.png
ORGANIZER;CN="Carly Egan":MAILTO:carly.egan@erskine.edu
END:VEVENT
BEGIN:VEVENT
DTSTART;TZID=America/New_York:20231111T130000
DTEND;TZID=America/New_York:20231111T150000
DTSTAMP:20260424T055218
CREATED:20230725T154723Z
LAST-MODIFIED:20230728T144338Z
UID:10000118-1699707600-1699714800@www.erskine.edu
SUMMARY:Erskine vs. Barton: Military Appreciation / Senior Day
DESCRIPTION:Erskine College and Flying Fleet Football will pay our respects to those who have served our great nation. We thank you for your patriotism\, love of country and willingness to serve and sacrifice so that all Americans can continue to enjoy our freedoms. All veterans\, servicemen and servicewomen are invited to attend the game as guests of Erskine College’s Flying Fleet Football program and will receive free entry to the game with a valid military ID. Information can be found at www.erskine.edu/football.
URL:https://www.erskine.edu/event/erskine-vs-barton-2023/
LOCATION:J.W. Babb Stadium\, 1816 Cokesbury Rd\, Greenwood\, SC\, 29649\, United States
CATEGORIES:Alumni,Athletics,Community,Football,Students
ATTACH;FMTTYPE=image/jpeg:https://www.erskine.edu/wp-content/uploads/2023/04/i-pHHnC3K-4K-scaled.jpeg
END:VEVENT
END:VCALENDAR