BEGIN:VCALENDAR
VERSION:2.0
PRODID:-//Erskine College - ECPv6.15.20//NONSGML v1.0//EN
CALSCALE:GREGORIAN
METHOD:PUBLISH
X-ORIGINAL-URL:https://www.erskine.edu
X-WR-CALDESC:Events for Erskine College
REFRESH-INTERVAL;VALUE=DURATION:PT1H
X-Robots-Tag:noindex
X-PUBLISHED-TTL:PT1H
BEGIN:VTIMEZONE
TZID:America/New_York
BEGIN:DAYLIGHT
TZOFFSETFROM:-0500
TZOFFSETTO:-0400
TZNAME:EDT
DTSTART:20230312T070000
END:DAYLIGHT
BEGIN:STANDARD
TZOFFSETFROM:-0400
TZOFFSETTO:-0500
TZNAME:EST
DTSTART:20231105T060000
END:STANDARD
BEGIN:DAYLIGHT
TZOFFSETFROM:-0500
TZOFFSETTO:-0400
TZNAME:EDT
DTSTART:20240310T070000
END:DAYLIGHT
BEGIN:STANDARD
TZOFFSETFROM:-0400
TZOFFSETTO:-0500
TZNAME:EST
DTSTART:20241103T060000
END:STANDARD
BEGIN:DAYLIGHT
TZOFFSETFROM:-0500
TZOFFSETTO:-0400
TZNAME:EDT
DTSTART:20250309T070000
END:DAYLIGHT
BEGIN:STANDARD
TZOFFSETFROM:-0400
TZOFFSETTO:-0500
TZNAME:EST
DTSTART:20251102T060000
END:STANDARD
END:VTIMEZONE
BEGIN:VEVENT
DTSTART;TZID=America/New_York:20240427T110000
DTEND;TZID=America/New_York:20240427T170000
DTSTAMP:20260422T203846
CREATED:20240111T143405Z
LAST-MODIFIED:20240111T143405Z
UID:10000252-1714215600-1714237200@www.erskine.edu
SUMMARY:Baseball vs North Greenville (DH)
DESCRIPTION:
URL:https://www.erskine.edu/event/baseball-vs-north-greenville-dh/
LOCATION:Grier Field\, 1 Dode Phillips Road\, Due West\, SC\, 29639\, United States
CATEGORIES:Athletics,Baseball
ATTACH;FMTTYPE=image/jpeg:https://www.erskine.edu/wp-content/uploads/2024/01/maclifton030423104-scaled.jpg
END:VEVENT
BEGIN:VEVENT
DTSTART;TZID=America/New_York:20240426T140000
DTEND;TZID=America/New_York:20240426T160000
DTSTAMP:20260422T203846
CREATED:20240111T143303Z
LAST-MODIFIED:20240111T143303Z
UID:10000251-1714140000-1714147200@www.erskine.edu
SUMMARY:Baseball vs North Greenville
DESCRIPTION:
URL:https://www.erskine.edu/event/baseball-vs-north-greenville/
LOCATION:Grier Field\, 1 Dode Phillips Road\, Due West\, SC\, 29639\, United States
CATEGORIES:Athletics,Baseball
ATTACH;FMTTYPE=image/jpeg:https://www.erskine.edu/wp-content/uploads/2024/01/maclifton030423104-scaled.jpg
END:VEVENT
BEGIN:VEVENT
DTSTART;TZID=America/New_York:20240420T110000
DTEND;TZID=America/New_York:20240420T170000
DTSTAMP:20260422T203846
CREATED:20240111T143155Z
LAST-MODIFIED:20240111T143155Z
UID:10000250-1713610800-1713632400@www.erskine.edu
SUMMARY:Baseball vs Barton (DH)
DESCRIPTION:
URL:https://www.erskine.edu/event/baseball-vs-barton-dh/
LOCATION:Grier Field\, 1 Dode Phillips Road\, Due West\, SC\, 29639\, United States
CATEGORIES:Athletics,Baseball
ATTACH;FMTTYPE=image/jpeg:https://www.erskine.edu/wp-content/uploads/2024/01/maclifton030423104-scaled.jpg
END:VEVENT
BEGIN:VEVENT
DTSTART;TZID=America/New_York:20240419T140000
DTEND;TZID=America/New_York:20240419T160000
DTSTAMP:20260422T203846
CREATED:20240111T143055Z
LAST-MODIFIED:20240111T143055Z
UID:10000249-1713535200-1713542400@www.erskine.edu
SUMMARY:Baseball vs Barton
DESCRIPTION:
URL:https://www.erskine.edu/event/baseball-vs-barton/
LOCATION:Grier Field\, 1 Dode Phillips Road\, Due West\, SC\, 29639\, United States
CATEGORIES:Athletics,Baseball
ATTACH;FMTTYPE=image/jpeg:https://www.erskine.edu/wp-content/uploads/2024/01/maclifton030423104-scaled.jpg
END:VEVENT
BEGIN:VEVENT
DTSTART;TZID=America/New_York:20240416T140000
DTEND;TZID=America/New_York:20240416T160000
DTSTAMP:20260422T203846
CREATED:20240111T142959Z
LAST-MODIFIED:20240111T142959Z
UID:10000248-1713276000-1713283200@www.erskine.edu
SUMMARY:Baseball vs Augusta
DESCRIPTION:
URL:https://www.erskine.edu/event/baseball-vs-augusta/
LOCATION:Grier Field\, 1 Dode Phillips Road\, Due West\, SC\, 29639\, United States
CATEGORIES:Athletics,Baseball
ATTACH;FMTTYPE=image/jpeg:https://www.erskine.edu/wp-content/uploads/2024/01/maclifton030423104-scaled.jpg
END:VEVENT
BEGIN:VEVENT
DTSTART;TZID=America/New_York:20240402T140000
DTEND;TZID=America/New_York:20240402T160000
DTSTAMP:20260422T203846
CREATED:20240111T142903Z
LAST-MODIFIED:20240111T142903Z
UID:10000247-1712066400-1712073600@www.erskine.edu
SUMMARY:Baseball vs Lander
DESCRIPTION:
URL:https://www.erskine.edu/event/baseball-vs-lander-2/
LOCATION:Grier Field\, 1 Dode Phillips Road\, Due West\, SC\, 29639\, United States
CATEGORIES:Athletics,Baseball
ATTACH;FMTTYPE=image/jpeg:https://www.erskine.edu/wp-content/uploads/2024/01/maclifton030423104-scaled.jpg
END:VEVENT
BEGIN:VEVENT
DTSTART;TZID=America/New_York:20240330T110000
DTEND;TZID=America/New_York:20240330T170000
DTSTAMP:20260422T203846
CREATED:20240111T142807Z
LAST-MODIFIED:20240111T142807Z
UID:10000246-1711796400-1711818000@www.erskine.edu
SUMMARY:Baseball vs UNC Pembroke (DH)
DESCRIPTION:
URL:https://www.erskine.edu/event/baseball-vs-unc-pembroke-dh/
LOCATION:Grier Field\, 1 Dode Phillips Road\, Due West\, SC\, 29639\, United States
CATEGORIES:Athletics,Baseball
ATTACH;FMTTYPE=image/jpeg:https://www.erskine.edu/wp-content/uploads/2024/01/maclifton030423104-scaled.jpg
END:VEVENT
BEGIN:VEVENT
DTSTART;TZID=America/New_York:20240329T140000
DTEND;TZID=America/New_York:20240329T160000
DTSTAMP:20260422T203846
CREATED:20240111T142713Z
LAST-MODIFIED:20240111T142713Z
UID:10000245-1711720800-1711728000@www.erskine.edu
SUMMARY:Baseball vs UNC Pembroke
DESCRIPTION:
URL:https://www.erskine.edu/event/baseball-vs-unc-pembroke/
LOCATION:Grier Field\, 1 Dode Phillips Road\, Due West\, SC\, 29639\, United States
CATEGORIES:Athletics,Baseball
ATTACH;FMTTYPE=image/jpeg:https://www.erskine.edu/wp-content/uploads/2024/01/maclifton030423104-scaled.jpg
END:VEVENT
BEGIN:VEVENT
DTSTART;TZID=America/New_York:20240319T140000
DTEND;TZID=America/New_York:20240319T160000
DTSTAMP:20260422T203846
CREATED:20240111T142617Z
LAST-MODIFIED:20240111T142617Z
UID:10000244-1710856800-1710864000@www.erskine.edu
SUMMARY:Baseball vs Limestone
DESCRIPTION:
URL:https://www.erskine.edu/event/baseball-vs-limestone/
LOCATION:Grier Field\, 1 Dode Phillips Road\, Due West\, SC\, 29639\, United States
CATEGORIES:Athletics,Baseball
ATTACH;FMTTYPE=image/jpeg:https://www.erskine.edu/wp-content/uploads/2024/01/maclifton030423104-scaled.jpg
END:VEVENT
BEGIN:VEVENT
DTSTART;TZID=America/New_York:20240309T110000
DTEND;TZID=America/New_York:20240309T170000
DTSTAMP:20260422T203846
CREATED:20240111T142511Z
LAST-MODIFIED:20240111T142511Z
UID:10000243-1709982000-1710003600@www.erskine.edu
SUMMARY:Baseball vs Southern Wesleyan (DH)
DESCRIPTION:
URL:https://www.erskine.edu/event/baseball-vs-southern-wesleyan-dh/
LOCATION:Grier Field\, 1 Dode Phillips Road\, Due West\, SC\, 29639\, United States
CATEGORIES:Athletics,Baseball
ATTACH;FMTTYPE=image/jpeg:https://www.erskine.edu/wp-content/uploads/2024/01/maclifton030423104-scaled.jpg
END:VEVENT
BEGIN:VEVENT
DTSTART;TZID=America/New_York:20240308T140000
DTEND;TZID=America/New_York:20240308T160000
DTSTAMP:20260422T203846
CREATED:20240111T142418Z
LAST-MODIFIED:20240111T142418Z
UID:10000242-1709906400-1709913600@www.erskine.edu
SUMMARY:Baseball vs Southern Wesleyan
DESCRIPTION:
URL:https://www.erskine.edu/event/baseball-vs-southern-wesleyan/
LOCATION:Grier Field\, 1 Dode Phillips Road\, Due West\, SC\, 29639\, United States
CATEGORIES:Athletics,Baseball
ATTACH;FMTTYPE=image/jpeg:https://www.erskine.edu/wp-content/uploads/2024/01/maclifton030423104-scaled.jpg
END:VEVENT
BEGIN:VEVENT
DTSTART;TZID=America/New_York:20240306T140000
DTEND;TZID=America/New_York:20240306T160000
DTSTAMP:20260422T203846
CREATED:20240111T142322Z
LAST-MODIFIED:20240111T142322Z
UID:10000241-1709733600-1709740800@www.erskine.edu
SUMMARY:Baseball vs Wingate
DESCRIPTION:
URL:https://www.erskine.edu/event/baseball-vs-wingate/
LOCATION:Grier Field\, 1 Dode Phillips Road\, Due West\, SC\, 29639\, United States
CATEGORIES:Athletics,Baseball
ATTACH;FMTTYPE=image/jpeg:https://www.erskine.edu/wp-content/uploads/2024/01/maclifton030423104-scaled.jpg
END:VEVENT
BEGIN:VEVENT
DTSTART;TZID=America/New_York:20240305T140000
DTEND;TZID=America/New_York:20240305T160000
DTSTAMP:20260422T203846
CREATED:20240111T142230Z
LAST-MODIFIED:20240111T142230Z
UID:10000240-1709647200-1709654400@www.erskine.edu
SUMMARY:Baseball vs Mars Hill
DESCRIPTION:
URL:https://www.erskine.edu/event/baseball-vs-mars-hill/
LOCATION:Grier Field\, 1 Dode Phillips Road\, Due West\, SC\, 29639\, United States
CATEGORIES:Athletics,Baseball
ATTACH;FMTTYPE=image/jpeg:https://www.erskine.edu/wp-content/uploads/2024/01/maclifton030423104-scaled.jpg
END:VEVENT
BEGIN:VEVENT
DTSTART;TZID=America/New_York:20240302T110000
DTEND;TZID=America/New_York:20240302T170000
DTSTAMP:20260422T203846
CREATED:20240111T142122Z
LAST-MODIFIED:20240111T142122Z
UID:10000239-1709377200-1709398800@www.erskine.edu
SUMMARY:Baseball vs King (DH)
DESCRIPTION:
URL:https://www.erskine.edu/event/baseball-vs-king-dh/
LOCATION:Grier Field\, 1 Dode Phillips Road\, Due West\, SC\, 29639\, United States
CATEGORIES:Athletics,Baseball
ATTACH;FMTTYPE=image/jpeg:https://www.erskine.edu/wp-content/uploads/2024/01/maclifton030423104-scaled.jpg
END:VEVENT
BEGIN:VEVENT
DTSTART;TZID=America/New_York:20240301T140000
DTEND;TZID=America/New_York:20240301T160000
DTSTAMP:20260422T203846
CREATED:20240111T142018Z
LAST-MODIFIED:20240111T142018Z
UID:10000238-1709301600-1709308800@www.erskine.edu
SUMMARY:Baseball vs King
DESCRIPTION:
URL:https://www.erskine.edu/event/baseball-vs-king/
LOCATION:Grier Field\, 1 Dode Phillips Road\, Due West\, SC\, 29639\, United States
CATEGORIES:Athletics,Baseball
ATTACH;FMTTYPE=image/jpeg:https://www.erskine.edu/wp-content/uploads/2024/01/maclifton030423104-scaled.jpg
END:VEVENT
BEGIN:VEVENT
DTSTART;TZID=America/New_York:20240220T140000
DTEND;TZID=America/New_York:20240220T160000
DTSTAMP:20260422T203846
CREATED:20240111T141811Z
LAST-MODIFIED:20240111T141811Z
UID:10000237-1708437600-1708444800@www.erskine.edu
SUMMARY:Baseball vs Lincoln Memorial
DESCRIPTION:
URL:https://www.erskine.edu/event/baseball-vs-lincoln-memorial/
LOCATION:Grier Field\, 1 Dode Phillips Road\, Due West\, SC\, 29639\, United States
CATEGORIES:Athletics,Baseball
ATTACH;FMTTYPE=image/jpeg:https://www.erskine.edu/wp-content/uploads/2024/01/maclifton030423104-scaled.jpg
END:VEVENT
BEGIN:VEVENT
DTSTART;TZID=America/New_York:20240201T140000
DTEND;TZID=America/New_York:20240201T160000
DTSTAMP:20260422T203846
CREATED:20240111T141705Z
LAST-MODIFIED:20240111T141705Z
UID:10000236-1706796000-1706803200@www.erskine.edu
SUMMARY:Baseball vs Lander
DESCRIPTION:
URL:https://www.erskine.edu/event/baseball-vs-lander/
LOCATION:Grier Field\, 1 Dode Phillips Road\, Due West\, SC\, 29639\, United States
CATEGORIES:Athletics,Baseball
ATTACH;FMTTYPE=image/jpeg:https://www.erskine.edu/wp-content/uploads/2024/01/maclifton030423104-scaled.jpg
END:VEVENT
END:VCALENDAR