BEGIN:VCALENDAR
VERSION:2.0
PRODID:-//Erskine College - ECPv6.15.20//NONSGML v1.0//EN
CALSCALE:GREGORIAN
METHOD:PUBLISH
X-ORIGINAL-URL:https://www.erskine.edu
X-WR-CALDESC:Events for Erskine College
REFRESH-INTERVAL;VALUE=DURATION:PT1H
X-Robots-Tag:noindex
X-PUBLISHED-TTL:PT1H
BEGIN:VTIMEZONE
TZID:America/New_York
BEGIN:DAYLIGHT
TZOFFSETFROM:-0500
TZOFFSETTO:-0400
TZNAME:EDT
DTSTART:20230312T070000
END:DAYLIGHT
BEGIN:STANDARD
TZOFFSETFROM:-0400
TZOFFSETTO:-0500
TZNAME:EST
DTSTART:20231105T060000
END:STANDARD
BEGIN:DAYLIGHT
TZOFFSETFROM:-0500
TZOFFSETTO:-0400
TZNAME:EDT
DTSTART:20240310T070000
END:DAYLIGHT
BEGIN:STANDARD
TZOFFSETFROM:-0400
TZOFFSETTO:-0500
TZNAME:EST
DTSTART:20241103T060000
END:STANDARD
BEGIN:DAYLIGHT
TZOFFSETFROM:-0500
TZOFFSETTO:-0400
TZNAME:EDT
DTSTART:20250309T070000
END:DAYLIGHT
BEGIN:STANDARD
TZOFFSETFROM:-0400
TZOFFSETTO:-0500
TZNAME:EST
DTSTART:20251102T060000
END:STANDARD
BEGIN:DAYLIGHT
TZOFFSETFROM:-0500
TZOFFSETTO:-0400
TZNAME:EDT
DTSTART:20260308T070000
END:DAYLIGHT
BEGIN:STANDARD
TZOFFSETFROM:-0400
TZOFFSETTO:-0500
TZNAME:EST
DTSTART:20261101T060000
END:STANDARD
BEGIN:DAYLIGHT
TZOFFSETFROM:-0500
TZOFFSETTO:-0400
TZNAME:EDT
DTSTART:20270314T070000
END:DAYLIGHT
BEGIN:STANDARD
TZOFFSETFROM:-0400
TZOFFSETTO:-0500
TZNAME:EST
DTSTART:20271107T060000
END:STANDARD
END:VTIMEZONE
BEGIN:VEVENT
DTSTART;TZID=America/New_York:20260418T143000
DTEND;TZID=America/New_York:20260418T170000
DTSTAMP:20260425T131825
CREATED:20251216T145404Z
LAST-MODIFIED:20260306T182254Z
UID:10000477-1776522600-1776531600@www.erskine.edu
SUMMARY:Garnet\, Gold\, & Boom 2026
DESCRIPTION:[vc_row][vc_column][vc_column_text css=””]\nJoin us for the 2026 Garnet\, Gold\, & Boom!\nThis event will take place on April 18th at 2:30 PM on Huggins Field.\n[/vc_column_text][/vc_column][/vc_row][vc_row][vc_column width=”1/2″][vc_column_text css=””]\nSchedule:\n[/vc_column_text][vc_column_text css=””]\nFood Trucks: 11:00 a.m. – 4:00 p.m. (Football Fieldhouse) \nTailgating: 12:00 p.m. (Huggins Field) \nCustom t-shirts from Pink on Pickens: 1:30 p.m. – 4:00 p.m. ($25 per shirt – cash\, check\, card) (Football Fieldhouse) \nFleetball Team Warm Up: 2:00 p.m. (Huggins Field) \nDevotional: 2:30 p.m. (Huggins Field) \nGarnet\, Gold & Boom Spring Game: 2:35 p.m. – 4:00 p.m. (Huggins Field)[/vc_column_text][/vc_column][vc_column width=”1/2″][vc_column_text css=””]\nFood Trucks:\n[/vc_column_text][vc_row_inner][vc_column_inner width=”1/3″][/vc_column_inner][vc_column_inner width=”1/3″][/vc_column_inner][vc_column_inner width=”1/3″][/vc_column_inner][/vc_row_inner][/vc_column][/vc_row]
URL:https://www.erskine.edu/event/garnet-gold-boom-2026/
LOCATION:Erskine College\, 2 Washington St.\, Due West\, SC\, 29639\, United States
CATEGORIES:Athletics
ATTACH;FMTTYPE=image/png:https://www.erskine.edu/wp-content/uploads/2025/12/Garnet-Gold-Boom-Countdown-Instagram-Post-45-7-scaled.png
END:VEVENT
BEGIN:VEVENT
DTSTART;TZID=America/New_York:20251101T133000
DTEND;TZID=America/New_York:20251101T170000
DTSTAMP:20260425T131825
CREATED:20250702T175255Z
LAST-MODIFIED:20250703T175618Z
UID:10000416-1762003800-1762016400@www.erskine.edu
SUMMARY:Home Football Game: Senior Day/Homecoming
DESCRIPTION:Join us for our third home football game on November 1st\, played at Dixie High School. More details to come soon!
URL:https://www.erskine.edu/event/home-football-game-senior-day-homecoming/
LOCATION:Dixie High School\, 1 Haynes Street\, Due West\, 29639\, United States
CATEGORIES:Athletics,Football
ATTACH;FMTTYPE=image/jpeg:https://www.erskine.edu/wp-content/uploads/2019/10/Homecoming-King-and-Queen-ed.-jg-1.jpg
END:VEVENT
BEGIN:VEVENT
DTSTART;TZID=America/New_York:20251101T080000
DTEND;TZID=America/New_York:20251101T170000
DTSTAMP:20260425T131825
CREATED:20250421T191207Z
LAST-MODIFIED:20251002T190440Z
UID:10000408-1761984000-1762016400@www.erskine.edu
SUMMARY:Homecoming & Family Day
DESCRIPTION:Erskine’s Homecoming & Family Day is November 1st! Come enjoy a day of fun for the whole family with inflatables\, a pep rally\, an art exhibit\, T-shirts on demand\, a tailgate lunch on campus\, followed by Fleet Football at Dixie High School in Due West\, South Carolina!
URL:https://www.erskine.edu/event/homecoming-2025/
CATEGORIES:Admissions,Alumni,Athletics,Community,Students
ATTACH;FMTTYPE=image/jpeg:https://www.erskine.edu/wp-content/uploads/2023/10/Homecoming-Ace-at-game-scaled.jpg
END:VEVENT
BEGIN:VEVENT
DTSTART;TZID=America/New_York:20251025T110000
DTEND;TZID=America/New_York:20251025T200000
DTSTAMP:20260425T131825
CREATED:20250321T195114Z
LAST-MODIFIED:20250623T202520Z
UID:10000401-1761390000-1761422400@www.erskine.edu
SUMMARY:100 Seasons of Soccer
DESCRIPTION:[vc_row][vc_column width=”2/3″]Celebrating 100 Seasons of Soccer...and the grand opening of Ralph Lundy Field![vc_column_text css=””]Join us in commemorating 100 Seasons of Soccer at Erskine – 60 seasons for the men’s team and 40 seasons for the women’s team. As we celebrate the past\, we will also look to the future with the grand opening of Erskine’s new Ralph Lundy Field. Call up your college soccer buddies and head to Due West![/vc_column_text][vc_column_text css=”” font_size=”20px” color=”#6f1931″]October 25\, 2025[/vc_column_text]Registration[vc_column_text css=””]\n$50 per adult – includes lunch\, dinner\, and a T-shirt \n$25 per child – includes lunch and dinner \nMake sure you list your T-shirt size when registering (small – 3XL). Those who register by October 15th will receive a T-shirt on the 25th at the check-in table.[/vc_column_text]Register Today! Schedule of Events[vc_column_text css=””]\n12:00 p.m.-1:30 p.m. – Cookout at Lundy Field  \n1:00 p.m. – Women’s Soccer vs. Francis Marion University \n3:30 p.m. – Men’s Soccer vs. Francis Marion University \n5:30 p.m. – Celebration of Erskine Soccer- BBQ at Matt Cox’s Barn\, 49 Highway 185 S\, Donalds \n[/vc_column_text]Looking for somewhere to stay? Find accommodations near Due West![/vc_column][vc_column width=”1/3″][/vc_column][/vc_row]
URL:https://www.erskine.edu/event/100-seasons-of-soccer/
LOCATION:Ralph Lundy Field\, 10 McGee Way\, Due West\, 29639\, United States
CATEGORIES:Alumni,Athletics,Soccer
ATTACH;FMTTYPE=image/jpeg:https://www.erskine.edu/wp-content/uploads/2025/03/Mens-soccer-team-historic-scaled.jpg
ORGANIZER;CN="Ralph Patterson":MAILTO:Ralph.patterson@erskine.edu
END:VEVENT
BEGIN:VEVENT
DTSTART;TZID=America/New_York:20251011T133000
DTEND;TZID=America/New_York:20251011T170000
DTSTAMP:20260425T131825
CREATED:20250702T174946Z
LAST-MODIFIED:20250703T175523Z
UID:10000415-1760189400-1760202000@www.erskine.edu
SUMMARY:Home Football Game: Military Appreciation Day
DESCRIPTION:Join us for our second home football game on October 11th\, played at Dixie High School. Military Appreciation Day will honor all those who have served and or serving\, as well as feature several honorary guests. There will be a halftime ceremony (to-be-announced) as well. \nFree admission to all service members\, past and present!
URL:https://www.erskine.edu/event/home-football-game-military-appreciation-day/
LOCATION:Dixie High School\, 1 Haynes Street\, Due West\, 29639\, United States
CATEGORIES:Athletics,Football
ATTACH;FMTTYPE=image/jpeg:https://www.erskine.edu/wp-content/uploads/2023/01/AF1Z6651-scaled.jpg
END:VEVENT
BEGIN:VEVENT
DTSTART;TZID=America/New_York:20251004T133000
DTEND;TZID=America/New_York:20251004T170000
DTSTAMP:20260425T131825
CREATED:20250702T174448Z
LAST-MODIFIED:20250703T175435Z
UID:10000414-1759584600-1759597200@www.erskine.edu
SUMMARY:Home Football Game: Abbeville County Education Day
DESCRIPTION:Join us for our FIRST home football game on October 4th\, played in Due West\, S.C. at Dixie High School! We are excited to have the Fleet play so close to home and are excited for their return to Abbeville County. The Abbeville County Education Day game will feature honorary guests like ACSD Superintendent Lori Brownlee-Brewton\, Dixie High School principal Paul Prescott\, and more! \nBe at Dixie High School for Erskine Flying Fleet’s first home game of the season!
URL:https://www.erskine.edu/event/home-football-game-abbeville-county-education-day/
LOCATION:Dixie High School\, 1 Haynes Street\, Due West\, 29639\, United States
CATEGORIES:Athletics,Community,Football
ATTACH;FMTTYPE=image/jpeg:https://www.erskine.edu/wp-content/uploads/2023/04/i-pHHnC3K-4K-scaled.jpeg
END:VEVENT
BEGIN:VEVENT
DTSTART;TZID=America/New_York:20250429T080000
DTEND;TZID=America/New_York:20250429T170000
DTSTAMP:20260425T131825
CREATED:20250421T190938Z
LAST-MODIFIED:20250421T190938Z
UID:10000407-1745913600-1745946000@www.erskine.edu
SUMMARY:Day of Giving 2025
DESCRIPTION:Visit the link below to learn all about Erskine’s Day of Giving on April 29th\, 2025. Help us reach our giving goal! \nhttps://www.erskine.edu/dayofgiving2025/
URL:https://www.erskine.edu/event/day-of-giving-2025/
CATEGORIES:Admissions,Alumni,Athletics,Community,Students
ATTACH;FMTTYPE=image/jpeg:https://www.erskine.edu/wp-content/uploads/2021/04/Ace-Day-of-Giving-thank-you-sign-CROP-scaled.jpg
END:VEVENT
BEGIN:VEVENT
DTSTART;TZID=America/New_York:20241102T100000
DTEND;TZID=America/New_York:20241102T160000
DTSTAMP:20260425T131825
CREATED:20240610T135421Z
LAST-MODIFIED:20241015T190812Z
UID:10000335-1730541600-1730563200@www.erskine.edu
SUMMARY:Homecoming\, Family Day\, & Fall Preview Day 2024
DESCRIPTION:[vc_row][vc_column]Homecoming & Family Day 2024[vc_column_text css=”” font_size=”md”]Homecoming 2024 has been rescheduled for November 2. The day’s events will include family activities\, food trucks\, an art show\, and a Fleet Football game. View a full schedule here: www.erskine.edu/homecoming/events/.[/vc_column_text][/vc_column][/vc_row]
URL:https://www.erskine.edu/event/homecoming-2024/
LOCATION:The Mall\, 2 Washington St.\, Due West\, SC\, 29639\, United States
CATEGORIES:Alumni,Athletics,Football,Students
ATTACH;FMTTYPE=image/png:https://www.erskine.edu/wp-content/uploads/2024/06/Homecoming-Nov-2.png
END:VEVENT
BEGIN:VEVENT
DTSTART;TZID=America/New_York:20241031T090000
DTEND;TZID=America/New_York:20241031T140000
DTSTAMP:20260425T131825
CREATED:20240610T134039Z
LAST-MODIFIED:20241011T191146Z
UID:10000334-1730365200-1730383200@www.erskine.edu
SUMMARY:Erskine Open
DESCRIPTION:[vc_row][vc_column][vc_column_text css=”” font_size=”lg” font_weight=”semibold”]The 51st Erskine Open has been rescheduled for October 31 \nLocation: Greenwood Country Club. Learn more on our Erskine Open page.[/vc_column_text][/vc_column][/vc_row]
URL:https://www.erskine.edu/event/erskine-open-2024/
LOCATION:Greenwood Country Club\, 607 W. Cambridge Ave.\, Greenwood\, SC\, 29646
CATEGORIES:Alumni,Athletics,Community,Golf
ATTACH;FMTTYPE=image/jpeg:https://www.erskine.edu/wp-content/uploads/2024/06/1M9A0026-scaled.jpg
ORGANIZER;CN="Ralph Patterson":MAILTO:Ralph.patterson@erskine.edu
END:VEVENT
BEGIN:VEVENT
DTSTART;VALUE=DATE:20241019
DTEND;VALUE=DATE:20241020
DTSTAMP:20260425T131825
CREATED:20240129T155330Z
LAST-MODIFIED:20240129T155616Z
UID:10000292-1729296000-1729382399@www.erskine.edu
SUMMARY:Alumni Football Tailgate - Erskine vs. North Greenville University
DESCRIPTION:
URL:https://www.erskine.edu/event/alumni-football-tailgate-erskine-vs-north-greenville-university/
LOCATION:Younts Stadium: North Greenville University\, 7801 N Tigerville Road\, Tigerville\, SC\, United States
CATEGORIES:Alumni,Athletics,Football
ATTACH;FMTTYPE=image/jpeg:https://www.erskine.edu/wp-content/uploads/2024/01/17-scaled.jpg
END:VEVENT
BEGIN:VEVENT
DTSTART;TZID=America/New_York:20240824T150000
DTEND;TZID=America/New_York:20240824T170000
DTSTAMP:20260425T131825
CREATED:20240814T165255Z
LAST-MODIFIED:20240814T165320Z
UID:10000348-1724511600-1724518800@www.erskine.edu
SUMMARY:Basketball Prospect Camp
DESCRIPTION:[vc_row][vc_column width=”1/2″][/vc_column][vc_column width=”1/2″][vc_column_text css=”” font_size=”lg”]Join Erskine Men’s Basketball for a prospect camp\, Saturday\, August 24. \n\nParticipate in drills\nPlay live games\nTake part in a workout\nEnjoy a guided tour of Erskine\n\nCost: $125[/vc_column_text][vc_empty_space]Register for the Camp [/vc_column][/vc_row]
URL:https://www.erskine.edu/event/basketball-prospect-camp/
LOCATION:Galloway Center\, 8 Dode Phillips Road\, Due West\, SC\, 29639\, United States
CATEGORIES:Athletics,Basketball
ATTACH;FMTTYPE=image/jpeg:https://www.erskine.edu/wp-content/uploads/2024/08/M9A9592-Enhanced-NR-scaled.jpg
ORGANIZER;CN="Mike Morrison":MAILTO:mike.morrison@erskine.edu
END:VEVENT
BEGIN:VEVENT
DTSTART;TZID=America/New_York:20240824T130000
DTEND;TZID=America/New_York:20240824T143000
DTSTAMP:20260425T131825
CREATED:20240814T131518Z
LAST-MODIFIED:20240814T184608Z
UID:10000347-1724504400-1724509800@www.erskine.edu
SUMMARY:Basketball Coaches Clinic
DESCRIPTION:[vc_row][vc_column width=”1/2″][/vc_column][vc_column width=”1/2″][vc_column_text css=”” font_size=”md”]Erskine welcomes basketball coaches to a free coaches clinic\, Saturday\, August 24\, 1:00 – 2:30 p.m. High school\, middle school\, recreational\, and church league coaches are all welcome to join! \nQuestions? Contact Mike Morrison at mike.morrison@erskine.edu \nTo join us\, please register using the form below.[/vc_column_text][vc_empty_space]\n\n                \n                        Name(Required)\n                            \n                            \n                                                    \n                                                    First\n                                                \n                            \n                            \n                                                    \n                                                    Last\n                                                \n                            \n                        What level do you coach?(Required)Where do you coach (e.g.\, YMCA\, church league\, Dixie High School\, etc.)?(Required)CAPTCHA\n          \n            \n            \n            \n            \n            \n            \n            \n            \n            \n            \n            \n            \n            \n        \n                        \n                        \n[/vc_column][/vc_row]
URL:https://www.erskine.edu/event/basketball-coaches-clinic/
LOCATION:Galloway Center\, 8 Dode Phillips Road\, Due West\, SC\, 29639\, United States
CATEGORIES:Athletics,Basketball
ATTACH;FMTTYPE=image/jpeg:https://www.erskine.edu/wp-content/uploads/2024/08/M9A9914-Enhanced-NR-scaled.jpg
ORGANIZER;CN="Mike Morrison":MAILTO:mike.morrison@erskine.edu
END:VEVENT
BEGIN:VEVENT
DTSTART;TZID=America/New_York:20240713T190000
DTEND;TZID=America/New_York:20240713T230000
DTSTAMP:20260425T131825
CREATED:20240702T151446Z
LAST-MODIFIED:20240703T134659Z
UID:10000338-1720897200-1720911600@www.erskine.edu
SUMMARY:Greenville Triumph Game
DESCRIPTION:Join us for the Greenville Triumph Game at Furman University’s Paladin Stadium on July 13th at 7:00 p.m. Stop by the Erskine table before the game to mingle with Erskine coaches\, alumni\, and friends\, and then enjoy the game together. Purchase your discounted tickets to the game at the link below. We hope to see you there! \nInformation to note: \n\nParking fee: $10\nClear bags/purses only\nSpecial discounted rate of $12 for Erskine alumni\nChildren ages 2 and under enter free of charge\n\n\n\n\n\n\n\n\n\n\n 
URL:https://www.erskine.edu/event/greenville-triumph-game/
LOCATION:Paladin Stadium at Furmin University\, 3300 Poinsett Highway\, Greenville\, SC\, 29613\, United States
CATEGORIES:Alumni,Athletics
ATTACH;FMTTYPE=image/png:https://www.erskine.edu/wp-content/uploads/2024/07/GreenvilleTriumph.png
ORGANIZER;CN="Andy Anderson":MAILTO:anderson@erskine.edu
END:VEVENT
BEGIN:VEVENT
DTSTART;TZID=America/New_York:20240427T110000
DTEND;TZID=America/New_York:20240427T170000
DTSTAMP:20260425T131825
CREATED:20240111T143405Z
LAST-MODIFIED:20240111T143405Z
UID:10000252-1714215600-1714237200@www.erskine.edu
SUMMARY:Baseball vs North Greenville (DH)
DESCRIPTION:
URL:https://www.erskine.edu/event/baseball-vs-north-greenville-dh/
LOCATION:Grier Field\, 1 Dode Phillips Road\, Due West\, SC\, 29639\, United States
CATEGORIES:Athletics,Baseball
ATTACH;FMTTYPE=image/jpeg:https://www.erskine.edu/wp-content/uploads/2024/01/maclifton030423104-scaled.jpg
END:VEVENT
BEGIN:VEVENT
DTSTART;TZID=America/New_York:20240426T140000
DTEND;TZID=America/New_York:20240426T160000
DTSTAMP:20260425T131825
CREATED:20240111T143303Z
LAST-MODIFIED:20240111T143303Z
UID:10000251-1714140000-1714147200@www.erskine.edu
SUMMARY:Baseball vs North Greenville
DESCRIPTION:
URL:https://www.erskine.edu/event/baseball-vs-north-greenville/
LOCATION:Grier Field\, 1 Dode Phillips Road\, Due West\, SC\, 29639\, United States
CATEGORIES:Athletics,Baseball
ATTACH;FMTTYPE=image/jpeg:https://www.erskine.edu/wp-content/uploads/2024/01/maclifton030423104-scaled.jpg
END:VEVENT
BEGIN:VEVENT
DTSTART;TZID=America/New_York:20240420T130000
DTEND;TZID=America/New_York:20240420T170000
DTSTAMP:20260425T131825
CREATED:20240111T152744Z
LAST-MODIFIED:20240111T152744Z
UID:10000275-1713618000-1713632400@www.erskine.edu
SUMMARY:Softball vs Southern Wesleyan (DH)
DESCRIPTION:
URL:https://www.erskine.edu/event/softball-vs-southern-wesleyan-dh/
LOCATION:Erskine Softball Complex\, 4 Bonner Street\, Due West\, SC\, 29639\, United States
CATEGORIES:Athletics,Softball
ATTACH;FMTTYPE=image/jpeg:https://www.erskine.edu/wp-content/uploads/2024/01/Untitled-design-13-scaled.jpg
END:VEVENT
BEGIN:VEVENT
DTSTART;TZID=America/New_York:20240420T130000
DTEND;TZID=America/New_York:20240420T160000
DTSTAMP:20260425T131825
CREATED:20240111T154442Z
LAST-MODIFIED:20240111T154442Z
UID:10000286-1713618000-1713628800@www.erskine.edu
SUMMARY:Women's Tennis vs King
DESCRIPTION:
URL:https://www.erskine.edu/event/womens-tennis-vs-king/
LOCATION:Sloan-Cox Tennis Courts\, 2 Dode Phillips Road\, Due West\, SC\, 29639\, United States
CATEGORIES:Athletics,Tennis
ATTACH;FMTTYPE=image/jpeg:https://www.erskine.edu/wp-content/uploads/2024/01/Untitled-design-16-scaled.jpg
END:VEVENT
BEGIN:VEVENT
DTSTART;TZID=America/New_York:20240420T110000
DTEND;TZID=America/New_York:20240420T170000
DTSTAMP:20260425T131825
CREATED:20240111T143155Z
LAST-MODIFIED:20240111T143155Z
UID:10000250-1713610800-1713632400@www.erskine.edu
SUMMARY:Baseball vs Barton (DH)
DESCRIPTION:
URL:https://www.erskine.edu/event/baseball-vs-barton-dh/
LOCATION:Grier Field\, 1 Dode Phillips Road\, Due West\, SC\, 29639\, United States
CATEGORIES:Athletics,Baseball
ATTACH;FMTTYPE=image/jpeg:https://www.erskine.edu/wp-content/uploads/2024/01/maclifton030423104-scaled.jpg
END:VEVENT
BEGIN:VEVENT
DTSTART;TZID=America/New_York:20240419T140000
DTEND;TZID=America/New_York:20240419T160000
DTSTAMP:20260425T131825
CREATED:20240111T143055Z
LAST-MODIFIED:20240111T143055Z
UID:10000249-1713535200-1713542400@www.erskine.edu
SUMMARY:Baseball vs Barton
DESCRIPTION:
URL:https://www.erskine.edu/event/baseball-vs-barton/
LOCATION:Grier Field\, 1 Dode Phillips Road\, Due West\, SC\, 29639\, United States
CATEGORIES:Athletics,Baseball
ATTACH;FMTTYPE=image/jpeg:https://www.erskine.edu/wp-content/uploads/2024/01/maclifton030423104-scaled.jpg
END:VEVENT
BEGIN:VEVENT
DTSTART;TZID=America/New_York:20240416T140000
DTEND;TZID=America/New_York:20240416T170000
DTSTAMP:20260425T131825
CREATED:20240111T154342Z
LAST-MODIFIED:20240111T154342Z
UID:10000285-1713276000-1713286800@www.erskine.edu
SUMMARY:Women's Tennis vs Lees-McRae
DESCRIPTION:
URL:https://www.erskine.edu/event/womens-tennis-vs-lees-mcrae/
LOCATION:Sloan-Cox Tennis Courts\, 2 Dode Phillips Road\, Due West\, SC\, 29639\, United States
CATEGORIES:Athletics,Tennis
ATTACH;FMTTYPE=image/jpeg:https://www.erskine.edu/wp-content/uploads/2024/01/Untitled-design-16-scaled.jpg
END:VEVENT
BEGIN:VEVENT
DTSTART;TZID=America/New_York:20240416T140000
DTEND;TZID=America/New_York:20240416T160000
DTSTAMP:20260425T131825
CREATED:20240111T142959Z
LAST-MODIFIED:20240111T142959Z
UID:10000248-1713276000-1713283200@www.erskine.edu
SUMMARY:Baseball vs Augusta
DESCRIPTION:
URL:https://www.erskine.edu/event/baseball-vs-augusta/
LOCATION:Grier Field\, 1 Dode Phillips Road\, Due West\, SC\, 29639\, United States
CATEGORIES:Athletics,Baseball
ATTACH;FMTTYPE=image/jpeg:https://www.erskine.edu/wp-content/uploads/2024/01/maclifton030423104-scaled.jpg
END:VEVENT
BEGIN:VEVENT
DTSTART;TZID=America/New_York:20240413T140000
DTEND;TZID=America/New_York:20240413T170000
DTSTAMP:20260425T131825
CREATED:20240318T154543Z
LAST-MODIFIED:20240318T154543Z
UID:10000307-1713016800-1713027600@www.erskine.edu
SUMMARY:Garnet\, Gold & Boom
DESCRIPTION:[vc_row][vc_column][vc_column_text] \n12:30: Football Parents’ Tailgate & Powderpuff Game at Huggins Field\n2:00: Garnet\, Gold & Boom at Huggins Field\nJoin us for the Garnet\, Gold & Boom Spring Game featuring the Erskine Flying Fleet football team. \n5:00: BBQ Cookout\n$10 BBQ ($7 for kids under 11) at Moffatt Dining Hall. Purchase tickets at Moffatt Dining Hall or through the Garnet\, Gold & Boom registration link below.[/vc_column_text][/vc_column][/vc_row][vc_row][vc_column]Register for Garnet\, Gold & Boom! [/vc_column][/vc_row]
URL:https://www.erskine.edu/event/garnet-gold-boom-2024/
LOCATION:Huggins Field\, 3 Brownlee St\, Due West\, SC\, 29639\, United States
CATEGORIES:Athletics,Football
ATTACH;FMTTYPE=image/png:https://www.erskine.edu/wp-content/uploads/2024/03/Garnet-Gold-Boom.png
END:VEVENT
BEGIN:VEVENT
DTSTART;TZID=America/New_York:20240409T140000
DTEND;TZID=America/New_York:20240409T180000
DTSTAMP:20260425T131825
CREATED:20240111T152648Z
LAST-MODIFIED:20240111T152648Z
UID:10000274-1712671200-1712685600@www.erskine.edu
SUMMARY:Softball vs Young Harris (DH)
DESCRIPTION:
URL:https://www.erskine.edu/event/softball-vs-young-harris-dh/
LOCATION:Erskine Softball Complex\, 4 Bonner Street\, Due West\, SC\, 29639\, United States
CATEGORIES:Athletics,Softball
ATTACH;FMTTYPE=image/jpeg:https://www.erskine.edu/wp-content/uploads/2024/01/Untitled-design-13-scaled.jpg
END:VEVENT
BEGIN:VEVENT
DTSTART;TZID=America/New_York:20240406T140000
DTEND;TZID=America/New_York:20240406T160000
DTSTAMP:20260425T131825
CREATED:20240111T145518Z
LAST-MODIFIED:20240111T145518Z
UID:10000263-1712412000-1712419200@www.erskine.edu
SUMMARY:Men's Volleyball vs Mount Olive
DESCRIPTION:
URL:https://www.erskine.edu/event/mens-volleyball-vs-mount-olive/
LOCATION:Galloway Center\, 8 Dode Phillips Road\, Due West\, SC\, 29639\, United States
CATEGORIES:Athletics,Volleyball
ATTACH;FMTTYPE=image/jpeg:https://www.erskine.edu/wp-content/uploads/2024/01/Untitled-design-12-scaled.jpg
END:VEVENT
BEGIN:VEVENT
DTSTART;TZID=America/New_York:20240405T190000
DTEND;TZID=America/New_York:20240405T210000
DTSTAMP:20260425T131825
CREATED:20240111T145423Z
LAST-MODIFIED:20240111T145423Z
UID:10000262-1712343600-1712350800@www.erskine.edu
SUMMARY:Men's Volleyball vs Barton
DESCRIPTION:
URL:https://www.erskine.edu/event/mens-volleyball-vs-barton/
LOCATION:Galloway Center\, 8 Dode Phillips Road\, Due West\, SC\, 29639\, United States
CATEGORIES:Athletics,Volleyball
ATTACH;FMTTYPE=image/jpeg:https://www.erskine.edu/wp-content/uploads/2024/01/Untitled-design-12-scaled.jpg
END:VEVENT
BEGIN:VEVENT
DTSTART;TZID=America/New_York:20240402T140000
DTEND;TZID=America/New_York:20240402T160000
DTSTAMP:20260425T131825
CREATED:20240111T142903Z
LAST-MODIFIED:20240111T142903Z
UID:10000247-1712066400-1712073600@www.erskine.edu
SUMMARY:Baseball vs Lander
DESCRIPTION:
URL:https://www.erskine.edu/event/baseball-vs-lander-2/
LOCATION:Grier Field\, 1 Dode Phillips Road\, Due West\, SC\, 29639\, United States
CATEGORIES:Athletics,Baseball
ATTACH;FMTTYPE=image/jpeg:https://www.erskine.edu/wp-content/uploads/2024/01/maclifton030423104-scaled.jpg
END:VEVENT
BEGIN:VEVENT
DTSTART;TZID=America/New_York:20240330T110000
DTEND;TZID=America/New_York:20240330T170000
DTSTAMP:20260425T131825
CREATED:20240111T142807Z
LAST-MODIFIED:20240111T142807Z
UID:10000246-1711796400-1711818000@www.erskine.edu
SUMMARY:Baseball vs UNC Pembroke (DH)
DESCRIPTION:
URL:https://www.erskine.edu/event/baseball-vs-unc-pembroke-dh/
LOCATION:Grier Field\, 1 Dode Phillips Road\, Due West\, SC\, 29639\, United States
CATEGORIES:Athletics,Baseball
ATTACH;FMTTYPE=image/jpeg:https://www.erskine.edu/wp-content/uploads/2024/01/maclifton030423104-scaled.jpg
END:VEVENT
BEGIN:VEVENT
DTSTART;TZID=America/New_York:20240329T140000
DTEND;TZID=America/New_York:20240329T160000
DTSTAMP:20260425T131825
CREATED:20240111T142713Z
LAST-MODIFIED:20240111T142713Z
UID:10000245-1711720800-1711728000@www.erskine.edu
SUMMARY:Baseball vs UNC Pembroke
DESCRIPTION:
URL:https://www.erskine.edu/event/baseball-vs-unc-pembroke/
LOCATION:Grier Field\, 1 Dode Phillips Road\, Due West\, SC\, 29639\, United States
CATEGORIES:Athletics,Baseball
ATTACH;FMTTYPE=image/jpeg:https://www.erskine.edu/wp-content/uploads/2024/01/maclifton030423104-scaled.jpg
END:VEVENT
BEGIN:VEVENT
DTSTART;TZID=America/New_York:20240323T150000
DTEND;TZID=America/New_York:20240323T170000
DTSTAMP:20260425T131825
CREATED:20240129T162646Z
LAST-MODIFIED:20240129T162646Z
UID:10000297-1711206000-1711213200@www.erskine.edu
SUMMARY:Women's Beach Volleyball vs Emmanuel
DESCRIPTION:
URL:https://www.erskine.edu/event/womens-beach-volleyball-vs-emmanuel-2/
LOCATION:Erskine Beach Volleyball Complex\, 2 Depot Street\, Due West\, SC\, 29639\, United States
CATEGORIES:Athletics,Volleyball
ATTACH;FMTTYPE=image/jpeg:https://www.erskine.edu/wp-content/uploads/2024/01/Untitled-design-20-scaled.jpg
END:VEVENT
BEGIN:VEVENT
DTSTART;TZID=America/New_York:20240323T130000
DTEND;TZID=America/New_York:20240323T170000
DTSTAMP:20260425T131825
CREATED:20240111T152537Z
LAST-MODIFIED:20240111T152537Z
UID:10000273-1711198800-1711213200@www.erskine.edu
SUMMARY:Softball vs Chowan (DH)
DESCRIPTION:
URL:https://www.erskine.edu/event/softball-vs-chowan-dh/
LOCATION:Erskine Softball Complex\, 4 Bonner Street\, Due West\, SC\, 29639\, United States
CATEGORIES:Athletics,Softball
ATTACH;FMTTYPE=image/jpeg:https://www.erskine.edu/wp-content/uploads/2024/01/Untitled-design-13-scaled.jpg
END:VEVENT
END:VCALENDAR