BEGIN:VCALENDAR
VERSION:2.0
PRODID:-//Erskine College - ECPv6.15.20//NONSGML v1.0//EN
CALSCALE:GREGORIAN
METHOD:PUBLISH
X-WR-CALNAME:Erskine College
X-ORIGINAL-URL:https://www.erskine.edu
X-WR-CALDESC:Events for Erskine College
REFRESH-INTERVAL;VALUE=DURATION:PT1H
X-Robots-Tag:noindex
X-PUBLISHED-TTL:PT1H
BEGIN:VTIMEZONE
TZID:America/New_York
BEGIN:DAYLIGHT
TZOFFSETFROM:-0500
TZOFFSETTO:-0400
TZNAME:EDT
DTSTART:20250309T070000
END:DAYLIGHT
BEGIN:STANDARD
TZOFFSETFROM:-0400
TZOFFSETTO:-0500
TZNAME:EST
DTSTART:20251102T060000
END:STANDARD
BEGIN:DAYLIGHT
TZOFFSETFROM:-0500
TZOFFSETTO:-0400
TZNAME:EDT
DTSTART:20260308T070000
END:DAYLIGHT
BEGIN:STANDARD
TZOFFSETFROM:-0400
TZOFFSETTO:-0500
TZNAME:EST
DTSTART:20261101T060000
END:STANDARD
BEGIN:DAYLIGHT
TZOFFSETFROM:-0500
TZOFFSETTO:-0400
TZNAME:EDT
DTSTART:20270314T070000
END:DAYLIGHT
BEGIN:STANDARD
TZOFFSETFROM:-0400
TZOFFSETTO:-0500
TZNAME:EST
DTSTART:20271107T060000
END:STANDARD
END:VTIMEZONE
BEGIN:VEVENT
DTSTART;TZID=America/New_York:20260113T183000
DTEND;TZID=America/New_York:20260113T193000
DTSTAMP:20260425T220830
CREATED:20251112T175601Z
LAST-MODIFIED:20251118T213210Z
UID:10000471-1768329000-1768332600@www.erskine.edu
SUMMARY:How to Dress for Success
DESCRIPTION:[vc_row][vc_column][vc_column_text css=””]A “How to Dress for Success” seminar for Erskine students will be held on the evening of Tuesday\, January 13th\, 2026 at 6:30 p.m. in Bowie Arts Center (women) and in the Founders Room (men). \nThis event will be for convocation credit. The women’s seminar speaker will be Stani Day ’10\, and the men’s speaker is Michael Noble ’99. [/vc_column_text][/vc_column][/vc_row][vc_row][vc_column width=”1/2″][vc_column_text css=””]Stani Day ’10 with her husband Lee Day ’08[/vc_column_text][/vc_column][vc_column width=”1/2″][vc_column_text css=””]Michael Noble ’99 with his wife Crystal Noble ’01[/vc_column_text][/vc_column][/vc_row]
URL:https://www.erskine.edu/event/how-to-dress-for-success/
LOCATION:Bowie Arts Center\, 2 Bonner Street\, Due West\, SC\, 29639\, United States
CATEGORIES:Alumni,Education
ATTACH;FMTTYPE=image/jpeg:https://www.erskine.edu/wp-content/uploads/2025/08/Kinlaw-honors-scaled.jpg
ORGANIZER;CN="Andy Anderson":MAILTO:anderson@erskine.edu
END:VEVENT
END:VCALENDAR