BEGIN:VCALENDAR
VERSION:2.0
PRODID:-//Erskine College - ECPv6.15.20//NONSGML v1.0//EN
CALSCALE:GREGORIAN
METHOD:PUBLISH
X-WR-CALNAME:Erskine College
X-ORIGINAL-URL:https://www.erskine.edu
X-WR-CALDESC:Events for Erskine College
REFRESH-INTERVAL;VALUE=DURATION:PT1H
X-Robots-Tag:noindex
X-PUBLISHED-TTL:PT1H
BEGIN:VTIMEZONE
TZID:America/New_York
BEGIN:DAYLIGHT
TZOFFSETFROM:-0500
TZOFFSETTO:-0400
TZNAME:EDT
DTSTART:20250309T070000
END:DAYLIGHT
BEGIN:STANDARD
TZOFFSETFROM:-0400
TZOFFSETTO:-0500
TZNAME:EST
DTSTART:20251102T060000
END:STANDARD
BEGIN:DAYLIGHT
TZOFFSETFROM:-0500
TZOFFSETTO:-0400
TZNAME:EDT
DTSTART:20260308T070000
END:DAYLIGHT
BEGIN:STANDARD
TZOFFSETFROM:-0400
TZOFFSETTO:-0500
TZNAME:EST
DTSTART:20261101T060000
END:STANDARD
BEGIN:DAYLIGHT
TZOFFSETFROM:-0500
TZOFFSETTO:-0400
TZNAME:EDT
DTSTART:20270314T070000
END:DAYLIGHT
BEGIN:STANDARD
TZOFFSETFROM:-0400
TZOFFSETTO:-0500
TZNAME:EST
DTSTART:20271107T060000
END:STANDARD
END:VTIMEZONE
BEGIN:VEVENT
DTSTART;TZID=America/New_York:20260711T100000
DTEND;TZID=America/New_York:20260711T170000
DTSTAMP:20260422T074509
CREATED:20260226T202111Z
LAST-MODIFIED:20260416T190110Z
UID:10000512-1783764000-1783789200@www.erskine.edu
SUMMARY:Defending the Faith Apologetics Camp
DESCRIPTION:[vc_row][vc_column][vc_column_text css=””]1 Peter 3:15 calls Christians to “always be ready to give a defense to everyone who asks you a reason for the hope that is in you” (NKJV). Erskine’s Defending the Faith Apologetics Camp\, scheduled for July 11\, helps students\, parents\, Erskine alumni\, and community members gain confidence in articulating what they believe and why. \nLearn from Erskine Theological Seminary faculty and Erskine College’s Professor of Biology and Health Science Dr. Noel Brownlee\, who also serves as Distinguished Professor of Medical Ethics in the seminary. \nSessions include: \n\nCurrent cultural apologetics\nScience and Christianity\nA viewing of Universe Designed\, a newly released film\n\nDefending the Faith Apologetics Camp is held in coordination with the Erskine chapter of Ratio Christi\, a national apologetics organization. \nCost: $25 per person \nDate/time: July 11\, 10:00 a.m. – 5:00 p.m. \nRegistration deadline: July 3 \nRegistration opening soon![/vc_column_text][/vc_column][/vc_row]
URL:https://www.erskine.edu/event/apologetics-camp/
LOCATION:DMSC Auditorium
CATEGORIES:Alumni,Camps,Community,Seminary,Students
ATTACH;FMTTYPE=image/jpeg:https://www.erskine.edu/wp-content/uploads/2026/02/Students-Classroom-Ben-Joe-scaled-1.jpg
ORGANIZER;CN="Dr. Noel Brownlee":MAILTO:brownlee@erskine.edu
END:VEVENT
BEGIN:VEVENT
DTSTART;TZID=America/New_York:20260718T100000
DTEND;TZID=America/New_York:20260718T170000
DTSTAMP:20260422T074509
CREATED:20260226T200359Z
LAST-MODIFIED:20260416T200923Z
UID:10000510-1784368800-1784394000@www.erskine.edu
SUMMARY:Physical Therapy and Sports Medicine Camp
DESCRIPTION:[vc_row][vc_column][vc_column_text css=””]Erskine’s Physical therapy and Sports Medicine Camp is for students\, parents\, alumni\, and community members with an interest in physical therapy or occupational therapy careers. The camp will be led by Dr. Marlon Libunao\, a practicing physical therapist and current Erskine adjunct faculty member in the Department of Health Science. \nSession Topics: \n\nCareers in physical therapy\nApplying to physical and occupational therapy graduate programs\nCommon sports-related injuries and treatments\nDemonstrations of physical therapy skills\n\nLocation: Daniel·Moultrie Science Center Auditorium (DMSC 150) \nDate: July 18\, 2026 | 10:00 a.m. – 5:00 p.m. \nCost: $25 \nRegister by July 10 \nRegistration coming soon![/vc_column_text][/vc_column][/vc_row]
URL:https://www.erskine.edu/event/physical-therapy-camp/
LOCATION:DMSC Auditorium
CATEGORIES:Athletics,Camps,Sciences,Students
ATTACH;FMTTYPE=image/jpeg:https://www.erskine.edu/wp-content/uploads/2026/02/SSS1286.jpg
ORGANIZER;CN="Dr. Noel Brownlee":MAILTO:brownlee@erskine.edu
END:VEVENT
END:VCALENDAR