BEGIN:VCALENDAR
VERSION:2.0
PRODID:-//Erskine College - ECPv6.15.20//NONSGML v1.0//EN
CALSCALE:GREGORIAN
METHOD:PUBLISH
X-ORIGINAL-URL:https://www.erskine.edu
X-WR-CALDESC:Events for Erskine College
REFRESH-INTERVAL;VALUE=DURATION:PT1H
X-Robots-Tag:noindex
X-PUBLISHED-TTL:PT1H
BEGIN:VTIMEZONE
TZID:America/New_York
BEGIN:DAYLIGHT
TZOFFSETFROM:-0500
TZOFFSETTO:-0400
TZNAME:EDT
DTSTART:20220313T070000
END:DAYLIGHT
BEGIN:STANDARD
TZOFFSETFROM:-0400
TZOFFSETTO:-0500
TZNAME:EST
DTSTART:20221106T060000
END:STANDARD
BEGIN:DAYLIGHT
TZOFFSETFROM:-0500
TZOFFSETTO:-0400
TZNAME:EDT
DTSTART:20230312T070000
END:DAYLIGHT
BEGIN:STANDARD
TZOFFSETFROM:-0400
TZOFFSETTO:-0500
TZNAME:EST
DTSTART:20231105T060000
END:STANDARD
BEGIN:DAYLIGHT
TZOFFSETFROM:-0500
TZOFFSETTO:-0400
TZNAME:EDT
DTSTART:20240310T070000
END:DAYLIGHT
BEGIN:STANDARD
TZOFFSETFROM:-0400
TZOFFSETTO:-0500
TZNAME:EST
DTSTART:20241103T060000
END:STANDARD
BEGIN:DAYLIGHT
TZOFFSETFROM:-0500
TZOFFSETTO:-0400
TZNAME:EDT
DTSTART:20250309T070000
END:DAYLIGHT
BEGIN:STANDARD
TZOFFSETFROM:-0400
TZOFFSETTO:-0500
TZNAME:EST
DTSTART:20251102T060000
END:STANDARD
END:VTIMEZONE
BEGIN:VEVENT
DTSTART;TZID=America/New_York:20240323T150000
DTEND;TZID=America/New_York:20240323T170000
DTSTAMP:20260425T204444
CREATED:20240129T162646Z
LAST-MODIFIED:20240129T162646Z
UID:10000297-1711206000-1711213200@www.erskine.edu
SUMMARY:Women's Beach Volleyball vs Emmanuel
DESCRIPTION:
URL:https://www.erskine.edu/event/womens-beach-volleyball-vs-emmanuel-2/
LOCATION:Erskine Beach Volleyball Complex\, 2 Depot Street\, Due West\, SC\, 29639\, United States
CATEGORIES:Athletics,Volleyball
ATTACH;FMTTYPE=image/jpeg:https://www.erskine.edu/wp-content/uploads/2024/01/Untitled-design-20-scaled.jpg
END:VEVENT
BEGIN:VEVENT
DTSTART;TZID=America/New_York:20240323T130000
DTEND;TZID=America/New_York:20240323T150000
DTSTAMP:20260425T204444
CREATED:20240129T162547Z
LAST-MODIFIED:20240129T162547Z
UID:10000296-1711198800-1711206000@www.erskine.edu
SUMMARY:Women's Beach Volleyball vs Emmanuel
DESCRIPTION:
URL:https://www.erskine.edu/event/womens-beach-volleyball-vs-emmanuel/
LOCATION:Erskine Beach Volleyball Complex\, 2 Depot Street\, Due West\, SC\, 29639\, United States
CATEGORIES:Athletics,Volleyball
ATTACH;FMTTYPE=image/jpeg:https://www.erskine.edu/wp-content/uploads/2024/01/Untitled-design-20-scaled.jpg
END:VEVENT
BEGIN:VEVENT
DTSTART;TZID=America/New_York:20240228T140000
DTEND;TZID=America/New_York:20240228T160000
DTSTAMP:20260425T204444
CREATED:20240129T162442Z
LAST-MODIFIED:20240129T162442Z
UID:10000295-1709128800-1709136000@www.erskine.edu
SUMMARY:Women's Beach Volleyball vs Spartanburg Methodist
DESCRIPTION:
URL:https://www.erskine.edu/event/womens-beach-volleyball-vs-spartanburg-methodist/
LOCATION:Erskine Beach Volleyball Complex\, 2 Depot Street\, Due West\, SC\, 29639\, United States
CATEGORIES:Athletics,Volleyball
ATTACH;FMTTYPE=image/jpeg:https://www.erskine.edu/wp-content/uploads/2024/01/Untitled-design-20-scaled.jpg
END:VEVENT
BEGIN:VEVENT
DTSTART;TZID=America/New_York:20240228T100000
DTEND;TZID=America/New_York:20240228T120000
DTSTAMP:20260425T204444
CREATED:20240129T162331Z
LAST-MODIFIED:20240129T162331Z
UID:10000294-1709114400-1709121600@www.erskine.edu
SUMMARY:Women's Beach Volleyball vs Wake Technical
DESCRIPTION:
URL:https://www.erskine.edu/event/womens-beach-volleyball-vs-wake-technical/
LOCATION:Erskine Beach Volleyball Complex\, 2 Depot Street\, Due West\, SC\, 29639\, United States
CATEGORIES:Athletics,Volleyball
ATTACH;FMTTYPE=image/jpeg:https://www.erskine.edu/wp-content/uploads/2024/01/Untitled-design-20-scaled.jpg
END:VEVENT
BEGIN:VEVENT
DTSTART;TZID=America/New_York:20230414T170000
DTEND;TZID=America/New_York:20230414T180000
DTSTAMP:20260425T204444
CREATED:20230411T184222Z
LAST-MODIFIED:20230411T211044Z
UID:10000089-1681491600-1681495200@www.erskine.edu
SUMMARY:Spikeball Tournament (Beach Volleyball Fundraiser)
DESCRIPTION:Erskine Beach Volleyball is hosting a Spikeball Tournament fundraiser. Cost is $15 per person; teams of two will compete. Sign-ups are accepted for teams or individual players. First and second place will receive prizes. Food and refreshments will be provided. \nEmail matthew.richmond@erskine.edu to sign up or for more information.
URL:https://www.erskine.edu/event/spikeball-tournament-beach-volleyball-fundraiser/
LOCATION:Erskine Beach Volleyball Complex\, 2 Depot Street\, Due West\, SC\, 29639\, United States
CATEGORIES:Alumni,Athletics,Community,Students
ATTACH;FMTTYPE=image/png:https://www.erskine.edu/wp-content/uploads/2023/04/5-1-e1681247374469.png
END:VEVENT
BEGIN:VEVENT
DTSTART;TZID=America/New_York:20230414T150000
DTEND;TZID=America/New_York:20230414T170000
DTSTAMP:20260425T204444
CREATED:20230411T211004Z
LAST-MODIFIED:20230411T211004Z
UID:10000090-1681484400-1681491600@www.erskine.edu
SUMMARY:Faculty/Staff Beach Volleyball Game
DESCRIPTION:Join us to watch your favorite staff members and professors challenge each other on the beach volleyball courts! Players include Dr. Wendi Santee\, Nolan Meadows\, Mark Peeler\, Bob Santee\, Dr. Van Scoy\, Dr. Harris\, Randy Moore\, Christianna Nocakovic\, Grace Zentmeyer\, Thomas Zentmeyer\, and Morgan Roberts.
URL:https://www.erskine.edu/event/faculty-staff-beach-volleyball-game/
LOCATION:Erskine Beach Volleyball Complex\, 2 Depot Street\, Due West\, SC\, 29639\, United States
CATEGORIES:Students
ATTACH;FMTTYPE=image/png:https://www.erskine.edu/wp-content/uploads/2023/04/5-1-e1681247374469.png
END:VEVENT
END:VCALENDAR